BEGIN:VCALENDAR
VERSION:2.0
PRODID:-//wp-events-plugin.com//7.2.3.1//EN
TZID:Europe/Paris
X-WR-TIMEZONE:Europe/Paris
BEGIN:VEVENT
UID:206@latelierkiyose.fr
DTSTART;TZID=Europe/Paris:20260131T093000
DTEND;TZID=Europe/Paris:20260131T123000
DTSTAMP:20251117T142715Z
URL:https://www.latelierkiyose.fr/events/stage-decouverte-du-journal-creat
 if-5/
SUMMARY:Stage Journal Créatif "La nature"
DESCRIPTION:\n\n\nThème : Célébrer la Nature avec le journal créatif\nV
 ous allez :\n\n 	Découvrir la pratique du journal créatif \n 	Apprivois
 er le processus créatif en lâchant-prise sur le résultat\n 	Célébrer 
 la nature et ses richesses\n 	Recevoir les messages que la Nature a pour v
 ous\n\nCréé par Anne-Marie Jobin il y a 25 ans\, le Journal Créatif est
  une façon renouvelée de tenir son journal intime.\n\n\n\n\nIl est basé
  sur les forces de l’art-thérapie\, de la psychologie\, du journal d’
 artiste et sur de multiples techniques de développement de la créativit
 é.\n\n\n\n\nIl combine l’écriture\, le dessin et le collage pour accom
 pagner chaque personne dans ses choix\, sa vie concrète\, ses relations.\
 n\nEntrée libre sur réservation (à la médiathèque au  05 49 60 11 43
 )\n\n\n\n
ATTACH;FMTTYPE=image/jpeg:https://www.latelierkiyose.fr/wp-content/uploads
 /2025/07/Capture-decran-2025-07-18-a-15.31.00.png
CATEGORIES:Journal créatif
LOCATION:Médiathèque de Vivonne\, 99 Grande Rue\, Vivonne\, 86370\, Franc
 e
X-APPLE-STRUCTURED-LOCATION;VALUE=URI;X-ADDRESS=99 Grande Rue\, Vivonne\, 8
 6370\, France;X-APPLE-RADIUS=100;X-TITLE=Médiathèque de Vivonne:geo:0,0
END:VEVENT
BEGIN:VTIMEZONE
TZID:Europe/Paris
X-LIC-LOCATION:Europe/Paris
BEGIN:STANDARD
DTSTART:20251026T020000
TZOFFSETFROM:+0200
TZOFFSETTO:+0100
TZNAME:CET
END:STANDARD
END:VTIMEZONE
END:VCALENDAR