BEGIN:VCALENDAR
VERSION:2.0
PRODID:-//wp-events-plugin.com//7.2.3.1//EN
TZID:Europe/Paris
X-WR-TIMEZONE:Europe/Paris
BEGIN:VEVENT
UID:207@latelierkiyose.fr
DTSTART;TZID=Europe/Paris:20260109T093000
DTEND;TZID=Europe/Paris:20260109T173000
DTSTAMP:20251117T142633Z
URL:https://www.latelierkiyose.fr/events/stage-decouverte-du-journal-creat
 if-6/
SUMMARY:Stage Découverte du Journal Créatif
DESCRIPTION:\n\n\nThème : Cultiver ma joie de vivre avec le journal créat
 if\nVous allez :\n\n 	Découvrir la pratique du journal créatif \n 	Appr
 ivoiser le processus créatif en lâchant-prise sur le résultat\n 	Identi
 fier vos sources de bonheur et de joie\n 	Ancrer les ingrédients du bonhe
 ur pour cultiver votre joie de vivre au quotidien\n\nCréé par Anne-Marie
  Jobin il y a 25 ans\, le Journal Créatif est une façon renouvelée de t
 enir son journal intime.\n\n\n\n\nIl est basé sur les forces de l’art-t
 hérapie\, de la psychologie\, du journal d’artiste et sur de multiples 
 techniques de développement de la créativité.\n\n\n\n\nIl combine l’
 écriture\, le dessin et le collage pour accompagner chaque personne dans 
 ses choix\, sa vie concrète\, ses relations.\n\nPrix libre et conscient (
 pour le matériel fourni)\n\n\n\n
ATTACH;FMTTYPE=image/jpeg:https://www.latelierkiyose.fr/wp-content/uploads
 /2025/07/Capture-decran-2025-07-18-a-15.31.00.png
CATEGORIES:Art-thérapie,Journal créatif
LOCATION:La K7 Tiers-lieu\, 43 route de la Cassette\, Poitiers\, 86000\, Fr
 ance
X-APPLE-STRUCTURED-LOCATION;VALUE=URI;X-ADDRESS=43 route de la Cassette\, P
 oitiers\, 86000\, France;X-APPLE-RADIUS=100;X-TITLE=La K7 Tiers-lieu:geo:0
 ,0
END:VEVENT
BEGIN:VTIMEZONE
TZID:Europe/Paris
X-LIC-LOCATION:Europe/Paris
BEGIN:STANDARD
DTSTART:20251026T020000
TZOFFSETFROM:+0200
TZOFFSETTO:+0100
TZNAME:CET
END:STANDARD
END:VTIMEZONE
END:VCALENDAR